BEGIN:VCALENDAR
VERSION:2.0
PRODID:-//snowbowl - ECPv6.15.20//NONSGML v1.0//EN
CALSCALE:GREGORIAN
METHOD:PUBLISH
X-ORIGINAL-URL:https://www.montanasnowbowl.com
X-WR-CALDESC:Events for snowbowl
REFRESH-INTERVAL;VALUE=DURATION:PT1H
X-Robots-Tag:noindex
X-PUBLISHED-TTL:PT1H
BEGIN:VTIMEZONE
TZID:America/Denver
BEGIN:DAYLIGHT
TZOFFSETFROM:-0700
TZOFFSETTO:-0600
TZNAME:MDT
DTSTART:20240310T090000
END:DAYLIGHT
BEGIN:STANDARD
TZOFFSETFROM:-0600
TZOFFSETTO:-0700
TZNAME:MST
DTSTART:20241103T080000
END:STANDARD
BEGIN:DAYLIGHT
TZOFFSETFROM:-0700
TZOFFSETTO:-0600
TZNAME:MDT
DTSTART:20250309T090000
END:DAYLIGHT
BEGIN:STANDARD
TZOFFSETFROM:-0600
TZOFFSETTO:-0700
TZNAME:MST
DTSTART:20251102T080000
END:STANDARD
BEGIN:DAYLIGHT
TZOFFSETFROM:-0700
TZOFFSETTO:-0600
TZNAME:MDT
DTSTART:20260308T090000
END:DAYLIGHT
BEGIN:STANDARD
TZOFFSETFROM:-0600
TZOFFSETTO:-0700
TZNAME:MST
DTSTART:20261101T080000
END:STANDARD
BEGIN:DAYLIGHT
TZOFFSETFROM:-0700
TZOFFSETTO:-0600
TZNAME:MDT
DTSTART:20270314T090000
END:DAYLIGHT
BEGIN:STANDARD
TZOFFSETFROM:-0600
TZOFFSETTO:-0700
TZNAME:MST
DTSTART:20271107T080000
END:STANDARD
END:VTIMEZONE
BEGIN:VEVENT
DTSTART;VALUE=DATE:20251226
DTEND;VALUE=DATE:20260303
DTSTAMP:20260425T093816
CREATED:20251214T150617Z
LAST-MODIFIED:20251223T162234Z
UID:12736-1766707200-1772495999@www.montanasnowbowl.com
SUMMARY:Open 7 Days a Week
DESCRIPTION:Starting December 26th\, we are open 7 day a week until March 3rd. Starting March 3rd\, we will be open 6 days a week\, closed on Tuesdays. Our hours are 09:00 am to 4:00 pm.
URL:https://www.montanasnowbowl.com/event/open-7-days-a-week/
CATEGORIES:Winter Events
END:VEVENT
BEGIN:VEVENT
DTSTART;VALUE=DATE:20260220
DTEND;VALUE=DATE:20260223
DTSTAMP:20260425T093816
CREATED:20260117T154322Z
LAST-MODIFIED:20260214T183923Z
UID:12780-1771545600-1771804799@www.montanasnowbowl.com
SUMMARY:Gelande-CANCELED
DESCRIPTION:February 21 & 22\, 2026: Snowbowl Cup Gelande Championship- Registration begins at 8:30 AM on Friday February 20th in the main lodge. All non-skier spectators on Sunday February 22nd will have a $5 admission fee per person. We recommend brining a lawn chair for the afternoon. Sorry\, no personal alcoholic beverages or dogs are allowed. \nJumping kicks off at 11 AM on Saturday and Sunday.
URL:https://www.montanasnowbowl.com/event/gelande/
CATEGORIES:Winter Events
END:VEVENT
BEGIN:VEVENT
DTSTART;VALUE=DATE:20260228
DTEND;VALUE=DATE:20260301
DTSTAMP:20260425T093816
CREATED:20260117T155115Z
LAST-MODIFIED:20260117T155758Z
UID:12798-1772236800-1772323199@www.montanasnowbowl.com
SUMMARY:Girls on Shred
DESCRIPTION:Event for the girls: Come up and ride with other girls for the day—organized by Board of Missoula girls department\, free to participate ( a day ticket or season pass is required) and prizes at the of the day!
URL:https://www.montanasnowbowl.com/event/girls-on-shred/
CATEGORIES:Winter Events
END:VEVENT
END:VCALENDAR