BEGIN:VCALENDAR
VERSION:2.0
PRODID:-//snowbowl - ECPv6.15.20//NONSGML v1.0//EN
CALSCALE:GREGORIAN
METHOD:PUBLISH
X-ORIGINAL-URL:https://www.montanasnowbowl.com
X-WR-CALDESC:Events for snowbowl
REFRESH-INTERVAL;VALUE=DURATION:PT1H
X-Robots-Tag:noindex
X-PUBLISHED-TTL:PT1H
BEGIN:VTIMEZONE
TZID:America/Denver
BEGIN:DAYLIGHT
TZOFFSETFROM:-0700
TZOFFSETTO:-0600
TZNAME:MDT
DTSTART:20250309T090000
END:DAYLIGHT
BEGIN:STANDARD
TZOFFSETFROM:-0600
TZOFFSETTO:-0700
TZNAME:MST
DTSTART:20251102T080000
END:STANDARD
BEGIN:DAYLIGHT
TZOFFSETFROM:-0700
TZOFFSETTO:-0600
TZNAME:MDT
DTSTART:20260308T090000
END:DAYLIGHT
BEGIN:STANDARD
TZOFFSETFROM:-0600
TZOFFSETTO:-0700
TZNAME:MST
DTSTART:20261101T080000
END:STANDARD
BEGIN:DAYLIGHT
TZOFFSETFROM:-0700
TZOFFSETTO:-0600
TZNAME:MDT
DTSTART:20270314T090000
END:DAYLIGHT
BEGIN:STANDARD
TZOFFSETFROM:-0600
TZOFFSETTO:-0700
TZNAME:MST
DTSTART:20271107T080000
END:STANDARD
END:VTIMEZONE
BEGIN:VEVENT
DTSTART;VALUE=DATE:20260308
DTEND;VALUE=DATE:20260309
DTSTAMP:20260425T093933
CREATED:20260117T160630Z
LAST-MODIFIED:20260117T160741Z
UID:12802-1772928000-1773014399@www.montanasnowbowl.com
SUMMARY:Best of the Bowl
DESCRIPTION:Popular end-of-the-year race to find out who the best skiers\, with Alpine\, Telemark and Snowboard divisions judged on speed and style down the Grizzly Chute.  Sponsored by Pepsi and Summit Beverage.
URL:https://www.montanasnowbowl.com/event/best-of-the-bowl/
CATEGORIES:Winter Events
END:VEVENT
END:VCALENDAR