BEGIN:VCALENDAR
VERSION:2.0
PRODID:-//snowbowl - ECPv6.15.20//NONSGML v1.0//EN
CALSCALE:GREGORIAN
METHOD:PUBLISH
X-ORIGINAL-URL:https://www.montanasnowbowl.com
X-WR-CALDESC:Events for snowbowl
REFRESH-INTERVAL;VALUE=DURATION:PT1H
X-Robots-Tag:noindex
X-PUBLISHED-TTL:PT1H
BEGIN:VTIMEZONE
TZID:America/Denver
BEGIN:DAYLIGHT
TZOFFSETFROM:-0700
TZOFFSETTO:-0600
TZNAME:MDT
DTSTART:20250309T090000
END:DAYLIGHT
BEGIN:STANDARD
TZOFFSETFROM:-0600
TZOFFSETTO:-0700
TZNAME:MST
DTSTART:20251102T080000
END:STANDARD
BEGIN:DAYLIGHT
TZOFFSETFROM:-0700
TZOFFSETTO:-0600
TZNAME:MDT
DTSTART:20260308T090000
END:DAYLIGHT
BEGIN:STANDARD
TZOFFSETFROM:-0600
TZOFFSETTO:-0700
TZNAME:MST
DTSTART:20261101T080000
END:STANDARD
BEGIN:DAYLIGHT
TZOFFSETFROM:-0700
TZOFFSETTO:-0600
TZNAME:MDT
DTSTART:20270314T090000
END:DAYLIGHT
BEGIN:STANDARD
TZOFFSETFROM:-0600
TZOFFSETTO:-0700
TZNAME:MST
DTSTART:20271107T080000
END:STANDARD
END:VTIMEZONE
BEGIN:VEVENT
DTSTART;VALUE=DATE:20260309
DTEND;VALUE=DATE:20260406
DTSTAMP:20260425T094917
CREATED:20260117T161320Z
LAST-MODIFIED:20260117T161548Z
UID:12804-1773014400-1775433599@www.montanasnowbowl.com
SUMMARY:Three for Two Promotion-Get a Free Day Ticket for This Ski Season!
DESCRIPTION:You come up\, buy a ticket and ski any two days from March 9th to the end of the season and your third day is free.  Conditions apply-you must keep both lift tickets attached to your jacket individually and present them attached to your jacket at the ticket window on your free day.  Tickets that are unattached or mutilated in any way will not be accepted.  complimentary tickets do not count.
URL:https://www.montanasnowbowl.com/event/three-for-two-promotion-get-a-free-day-ticket-for-this-ski-season/
CATEGORIES:Winter Events
END:VEVENT
BEGIN:VEVENT
DTSTART;VALUE=DATE:20260322
DTEND;VALUE=DATE:20260323
DTSTAMP:20260425T094917
CREATED:20260117T161438Z
LAST-MODIFIED:20260314T183120Z
UID:12809-1774137600-1774223999@www.montanasnowbowl.com
SUMMARY:Vertical Challenge
DESCRIPTION:Compete in teams of two for an all-mountain challenge to see who can ski the most vertical bell to bell.  Any team that skis/boards 10\,000 vertical feet will be entered into a raffle to win a pair of Atomic skis courtesy of Big Sky Brewery.  Other prizes for various categories.  Registration is free. Register with your teammate at the day lodge beginning at 9:30AM.  A camera is required. Sponsored by Big Sky Brewery.
URL:https://www.montanasnowbowl.com/event/vertical-challenge-2/
CATEGORIES:Winter Events
END:VEVENT
END:VCALENDAR