BEGIN:VCALENDAR
VERSION:2.0
PRODID:-//snowbowl - ECPv6.15.20//NONSGML v1.0//EN
CALSCALE:GREGORIAN
METHOD:PUBLISH
X-ORIGINAL-URL:https://www.montanasnowbowl.com
X-WR-CALDESC:Events for snowbowl
REFRESH-INTERVAL;VALUE=DURATION:PT1H
X-Robots-Tag:noindex
X-PUBLISHED-TTL:PT1H
BEGIN:VTIMEZONE
TZID:America/Denver
BEGIN:DAYLIGHT
TZOFFSETFROM:-0700
TZOFFSETTO:-0600
TZNAME:MDT
DTSTART:20250309T090000
END:DAYLIGHT
BEGIN:STANDARD
TZOFFSETFROM:-0600
TZOFFSETTO:-0700
TZNAME:MST
DTSTART:20251102T080000
END:STANDARD
BEGIN:DAYLIGHT
TZOFFSETFROM:-0700
TZOFFSETTO:-0600
TZNAME:MDT
DTSTART:20260308T090000
END:DAYLIGHT
BEGIN:STANDARD
TZOFFSETFROM:-0600
TZOFFSETTO:-0700
TZNAME:MST
DTSTART:20261101T080000
END:STANDARD
BEGIN:DAYLIGHT
TZOFFSETFROM:-0700
TZOFFSETTO:-0600
TZNAME:MDT
DTSTART:20270314T090000
END:DAYLIGHT
BEGIN:STANDARD
TZOFFSETFROM:-0600
TZOFFSETTO:-0700
TZNAME:MST
DTSTART:20271107T080000
END:STANDARD
END:VTIMEZONE
BEGIN:VEVENT
DTSTART;VALUE=DATE:20260317
DTEND;VALUE=DATE:20260318
DTSTAMP:20260425T165113
CREATED:20260224T180009Z
LAST-MODIFIED:20260224T180009Z
UID:12891-1773705600-1773791999@www.montanasnowbowl.com
SUMMARY:Closed
DESCRIPTION:Open six days a week in March\, closed on Tuesday’s.
URL:https://www.montanasnowbowl.com/event/closed-9/
CATEGORIES:Winter Events
END:VEVENT
BEGIN:VEVENT
DTSTART;VALUE=DATE:20260322
DTEND;VALUE=DATE:20260323
DTSTAMP:20260425T165113
CREATED:20260117T161438Z
LAST-MODIFIED:20260314T183120Z
UID:12809-1774137600-1774223999@www.montanasnowbowl.com
SUMMARY:Vertical Challenge
DESCRIPTION:Compete in teams of two for an all-mountain challenge to see who can ski the most vertical bell to bell.  Any team that skis/boards 10\,000 vertical feet will be entered into a raffle to win a pair of Atomic skis courtesy of Big Sky Brewery.  Other prizes for various categories.  Registration is free. Register with your teammate at the day lodge beginning at 9:30AM.  A camera is required. Sponsored by Big Sky Brewery.
URL:https://www.montanasnowbowl.com/event/vertical-challenge-2/
CATEGORIES:Winter Events
END:VEVENT
BEGIN:VEVENT
DTSTART;VALUE=DATE:20260324
DTEND;VALUE=DATE:20260325
DTSTAMP:20260425T165113
CREATED:20260224T180031Z
LAST-MODIFIED:20260224T180031Z
UID:12893-1774310400-1774396799@www.montanasnowbowl.com
SUMMARY:Closed
DESCRIPTION:Open six days a week in March\, closed on Tuesday’s.
URL:https://www.montanasnowbowl.com/event/closed-10/
CATEGORIES:Winter Events
END:VEVENT
BEGIN:VEVENT
DTSTART;VALUE=DATE:20260329
DTEND;VALUE=DATE:20260330
DTSTAMP:20260425T165113
CREATED:20260117T162943Z
LAST-MODIFIED:20260117T162956Z
UID:12814-1774742400-1774828799@www.montanasnowbowl.com
SUMMARY:North Dakota Downhill
DESCRIPTION:Slide and glide contest on the North Dakota Downhill trail. Registration is free; there are lots of prizes and fun for all ages and abilities. Sponsored by Pepsi and Summit Beverage.  
URL:https://www.montanasnowbowl.com/event/north-dakota-downhill/
CATEGORIES:Winter Events
END:VEVENT
BEGIN:VEVENT
DTSTART;VALUE=DATE:20260330
DTEND;VALUE=DATE:20260402
DTSTAMP:20260425T165113
CREATED:20260224T180108Z
LAST-MODIFIED:20260327T173158Z
UID:12895-1774828800-1775087999@www.montanasnowbowl.com
SUMMARY:Closed
DESCRIPTION:End of the Season now open four days a week in\, closed Monday\, Tuesday and Wednesday
URL:https://www.montanasnowbowl.com/event/closed-11/
CATEGORIES:Winter Events
END:VEVENT
BEGIN:VEVENT
DTSTART;VALUE=DATE:20260405
DTEND;VALUE=DATE:20260406
DTSTAMP:20260425T165113
CREATED:20260117T163550Z
LAST-MODIFIED:20260117T163550Z
UID:12816-1775347200-1775433599@www.montanasnowbowl.com
SUMMARY:Last Day of the Season...?
DESCRIPTION:Possible last day of the season\, with enough snow we may extend for one more weekend! Keep up on your snow dances!
URL:https://www.montanasnowbowl.com/event/last-day-of-the-season/
CATEGORIES:Winter Events
END:VEVENT
END:VCALENDAR